BEGIN:VCALENDAR
VERSION:2.0
PRODID:-//Christian Harvest International - ECPv6.15.14//NONSGML v1.0//EN
CALSCALE:GREGORIAN
METHOD:PUBLISH
X-ORIGINAL-URL:https://christianharvestintl.org
X-WR-CALDESC:Events for Christian Harvest International
REFRESH-INTERVAL;VALUE=DURATION:PT1H
X-Robots-Tag:noindex
X-PUBLISHED-TTL:PT1H
BEGIN:VTIMEZONE
TZID:America/Denver
BEGIN:DAYLIGHT
TZOFFSETFROM:-0700
TZOFFSETTO:-0600
TZNAME:MDT
DTSTART:20220313T090000
END:DAYLIGHT
BEGIN:STANDARD
TZOFFSETFROM:-0600
TZOFFSETTO:-0700
TZNAME:MST
DTSTART:20221106T080000
END:STANDARD
BEGIN:DAYLIGHT
TZOFFSETFROM:-0700
TZOFFSETTO:-0600
TZNAME:MDT
DTSTART:20230312T090000
END:DAYLIGHT
BEGIN:STANDARD
TZOFFSETFROM:-0600
TZOFFSETTO:-0700
TZNAME:MST
DTSTART:20231105T080000
END:STANDARD
BEGIN:DAYLIGHT
TZOFFSETFROM:-0700
TZOFFSETTO:-0600
TZNAME:MDT
DTSTART:20240310T090000
END:DAYLIGHT
BEGIN:STANDARD
TZOFFSETFROM:-0600
TZOFFSETTO:-0700
TZNAME:MST
DTSTART:20241103T080000
END:STANDARD
END:VTIMEZONE
BEGIN:VEVENT
DTSTART;VALUE=DATE:20230705
DTEND;VALUE=DATE:20230708
DTSTAMP:20260423T172230
CREATED:20230609T212513Z
LAST-MODIFIED:20230609T212513Z
UID:10000087-1688515200-1688774399@christianharvestintl.org
SUMMARY:Launch 2023 Discipleship School
DESCRIPTION:Launch Discipleship School is 4 weeks of intense and intentional preparation for those that have been called to Hollywood TO DO WORKS OF JUSTICE. Some of the best leaders/teachers in the Body of Christ will be coming to pour into students to get them ready to step into the specific calling that God has placed on their lives. It will also be a time when valuable relationships will be formed that will last a lifetime. \n\nIf you feel like your time of Breakthrough is near\, there is no better place to be this Summer. God is getting His people ready to unite and invade Arts & Entertainment like never before! \n\nJune 19 – July 16 \nRadiance International (1626 N La Brea Ave\, Los Angeles\, CA 90028) \nFull Time Students (School Only): $1100 \nFull Time Students (with Housing): $1700 \n​ \nDAILY SCHEDULE (Monday – Friday)10a-2p: Worship & Teaching/Impartation2p-midnight: 4 Hrs in Hollywood House of Prayer \n(Worship\, Prayer\, Soaking\, Reflection) 
URL:https://christianharvestintl.org/event/launch-2023-discipleship-school/
LOCATION:Radiance International\, 1626 N La Brea Ave\, Los Angeles\, CA\, 90028\, United States
END:VEVENT
END:VCALENDAR