BEGIN:VCALENDAR
VERSION:2.0
PRODID:-//Christian Harvest International - ECPv6.15.14//NONSGML v1.0//EN
CALSCALE:GREGORIAN
METHOD:PUBLISH
X-WR-CALNAME:Christian Harvest International
X-ORIGINAL-URL:https://christianharvestintl.org
X-WR-CALDESC:Events for Christian Harvest International
REFRESH-INTERVAL;VALUE=DURATION:PT1H
X-Robots-Tag:noindex
X-PUBLISHED-TTL:PT1H
BEGIN:VTIMEZONE
TZID:America/Denver
BEGIN:DAYLIGHT
TZOFFSETFROM:-0700
TZOFFSETTO:-0600
TZNAME:MDT
DTSTART:20230312T090000
END:DAYLIGHT
BEGIN:STANDARD
TZOFFSETFROM:-0600
TZOFFSETTO:-0700
TZNAME:MST
DTSTART:20231105T080000
END:STANDARD
BEGIN:DAYLIGHT
TZOFFSETFROM:-0700
TZOFFSETTO:-0600
TZNAME:MDT
DTSTART:20240310T090000
END:DAYLIGHT
BEGIN:STANDARD
TZOFFSETFROM:-0600
TZOFFSETTO:-0700
TZNAME:MST
DTSTART:20241103T080000
END:STANDARD
BEGIN:DAYLIGHT
TZOFFSETFROM:-0700
TZOFFSETTO:-0600
TZNAME:MDT
DTSTART:20250309T090000
END:DAYLIGHT
BEGIN:STANDARD
TZOFFSETFROM:-0600
TZOFFSETTO:-0700
TZNAME:MST
DTSTART:20251102T080000
END:STANDARD
END:VTIMEZONE
BEGIN:VEVENT
DTSTART;TZID=America/Denver:20241102T090000
DTEND;TZID=America/Denver:20241102T160000
DTSTAMP:20260423T154937
CREATED:20241009T201052Z
LAST-MODIFIED:20241009T201148Z
UID:10000101-1730538000-1730563200@christianharvestintl.org
SUMMARY:Glory Awakening
DESCRIPTION:About this event\n2 Corinthians 3:17-18 says\, “For the Lord is the Spirit\, and wherever the Spirit of the Lord is there is freedom. So all of us who have had that veil removed can see and reflect the glory of the Lord. And the Lord – who is the Spirit – makes us more and more like him as we are changed into his glorious image.” Come and join us we step into the Glory Realm and experience His presence\, learn what it means to walk in His Glory and carry it into your spheres of influence. \nEach one of our guest presenters carries an anointing that releases the Glory of the Lord\, carrying a passion to see the sons and daughters of God equipped and mobilized to take the gospel to every corner of the world. \nBecca Greenwood is the co-founder of Christian Harvest International\, ministering to the nations through prophetic intercession\, transformational spiritual warfare prayer and teaching the word of God. For over 24 years\, she has participated and led in spiritual warfare prayer journeys to 34 countries where measurable transformation has been realized. Becca has authored more than 10 books and has an incredible gift in teaching and equipping kingdom leaders.\nAnthony Turner\, an amazing teacher and worshipper\, has for over 43 years endeavoring to fulfill the call and mandate God gave him – to elevate minds and disciple men and women to be examples of God’s awesome power\, tender mercies and everlastling love. He is the founder of Destiny Ministries International which was established to disciple\, equip and mobilize the next generation of emerging leaders for kingdom transformation.\nLynn Alderson\, is the co-founder of Kingdom Authorities Ministries with a mandate from the Lord to serve the destiny of kingdom leaders through relational apostolic alignment\, strategic level prayer covering and prophetic insight and council to those they serve. Lynn is a gifted teacher bringing fresh revelation that equips the Body of Christ in what it means to be walk and be seated with Christ in the heavenly realm.\nDavid McLendon\, along with his wife Elena\, pastor New Covenant Church located in Statesboro\, Georgia. New Covenant exists to host the presence of God\, equip belivers to do the work of the ministry to which they have been called and be a gathering place for people to pursue an encounter with God.\nKathy Todd is co-founder of Catalyst 416\, Inc. that exists to fulfill the call the Lord gave to equip the saints in accordance with Ephesians 4:16 – bringing teaching and equipping opportunities to the Body of Christ as they deepen and develop their relationship with the Lord\, growing in understanding\, utilizing their divine giftings that contribute to the whole of the Body. \nWorship will be conducted by Zac McLendon and the worship team at New Covenant Church.
URL:https://christianharvestintl.org/event/glory-awakening-2/2024-11-02/
LOCATION:New Covenant Church\, 701 Gentilly Road\, Statesboro\, GA\, 30458\, United States
ATTACH;FMTTYPE=image/jpeg:https://christianharvestintl.org/wp-content/uploads/2024/10/Glory-Awakening-Graphic-FINAL-scaled.jpg
END:VEVENT
BEGIN:VEVENT
DTSTART;TZID=America/Denver:20241101T090000
DTEND;TZID=America/Denver:20241101T160000
DTSTAMP:20260423T154937
CREATED:20241009T201052Z
LAST-MODIFIED:20241009T201148Z
UID:10000100-1730451600-1730476800@christianharvestintl.org
SUMMARY:Glory Awakening
DESCRIPTION:About this event\n2 Corinthians 3:17-18 says\, “For the Lord is the Spirit\, and wherever the Spirit of the Lord is there is freedom. So all of us who have had that veil removed can see and reflect the glory of the Lord. And the Lord – who is the Spirit – makes us more and more like him as we are changed into his glorious image.” Come and join us we step into the Glory Realm and experience His presence\, learn what it means to walk in His Glory and carry it into your spheres of influence. \nEach one of our guest presenters carries an anointing that releases the Glory of the Lord\, carrying a passion to see the sons and daughters of God equipped and mobilized to take the gospel to every corner of the world. \nBecca Greenwood is the co-founder of Christian Harvest International\, ministering to the nations through prophetic intercession\, transformational spiritual warfare prayer and teaching the word of God. For over 24 years\, she has participated and led in spiritual warfare prayer journeys to 34 countries where measurable transformation has been realized. Becca has authored more than 10 books and has an incredible gift in teaching and equipping kingdom leaders.\nAnthony Turner\, an amazing teacher and worshipper\, has for over 43 years endeavoring to fulfill the call and mandate God gave him – to elevate minds and disciple men and women to be examples of God’s awesome power\, tender mercies and everlastling love. He is the founder of Destiny Ministries International which was established to disciple\, equip and mobilize the next generation of emerging leaders for kingdom transformation.\nLynn Alderson\, is the co-founder of Kingdom Authorities Ministries with a mandate from the Lord to serve the destiny of kingdom leaders through relational apostolic alignment\, strategic level prayer covering and prophetic insight and council to those they serve. Lynn is a gifted teacher bringing fresh revelation that equips the Body of Christ in what it means to be walk and be seated with Christ in the heavenly realm.\nDavid McLendon\, along with his wife Elena\, pastor New Covenant Church located in Statesboro\, Georgia. New Covenant exists to host the presence of God\, equip belivers to do the work of the ministry to which they have been called and be a gathering place for people to pursue an encounter with God.\nKathy Todd is co-founder of Catalyst 416\, Inc. that exists to fulfill the call the Lord gave to equip the saints in accordance with Ephesians 4:16 – bringing teaching and equipping opportunities to the Body of Christ as they deepen and develop their relationship with the Lord\, growing in understanding\, utilizing their divine giftings that contribute to the whole of the Body. \nWorship will be conducted by Zac McLendon and the worship team at New Covenant Church.
URL:https://christianharvestintl.org/event/glory-awakening-2/2024-11-01/
LOCATION:New Covenant Church\, 701 Gentilly Road\, Statesboro\, GA\, 30458\, United States
ATTACH;FMTTYPE=image/jpeg:https://christianharvestintl.org/wp-content/uploads/2024/10/Glory-Awakening-Graphic-FINAL-scaled.jpg
END:VEVENT
END:VCALENDAR