BEGIN:VCALENDAR
VERSION:2.0
PRODID:-//Christian Harvest International - ECPv6.15.14//NONSGML v1.0//EN
CALSCALE:GREGORIAN
METHOD:PUBLISH
X-WR-CALNAME:Christian Harvest International
X-ORIGINAL-URL:https://christianharvestintl.org
X-WR-CALDESC:Events for Christian Harvest International
REFRESH-INTERVAL;VALUE=DURATION:PT1H
X-Robots-Tag:noindex
X-PUBLISHED-TTL:PT1H
BEGIN:VTIMEZONE
TZID:America/Denver
BEGIN:DAYLIGHT
TZOFFSETFROM:-0700
TZOFFSETTO:-0600
TZNAME:MDT
DTSTART:20240310T090000
END:DAYLIGHT
BEGIN:STANDARD
TZOFFSETFROM:-0600
TZOFFSETTO:-0700
TZNAME:MST
DTSTART:20241103T080000
END:STANDARD
BEGIN:DAYLIGHT
TZOFFSETFROM:-0700
TZOFFSETTO:-0600
TZNAME:MDT
DTSTART:20250309T090000
END:DAYLIGHT
BEGIN:STANDARD
TZOFFSETFROM:-0600
TZOFFSETTO:-0700
TZNAME:MST
DTSTART:20251102T080000
END:STANDARD
BEGIN:DAYLIGHT
TZOFFSETFROM:-0700
TZOFFSETTO:-0600
TZNAME:MDT
DTSTART:20260308T090000
END:DAYLIGHT
BEGIN:STANDARD
TZOFFSETFROM:-0600
TZOFFSETTO:-0700
TZNAME:MST
DTSTART:20261101T080000
END:STANDARD
END:VTIMEZONE
BEGIN:VEVENT
DTSTART;VALUE=DATE:20250123
DTEND;VALUE=DATE:20250126
DTSTAMP:20260423T155448
CREATED:20240814T204105Z
LAST-MODIFIED:20240814T205119Z
UID:10000099-1737590400-1737849599@christianharvestintl.org
SUMMARY:Strategic Prayer Apostolic Network (SPAN) Meeting 2025
DESCRIPTION:[vc_row][vc_column][vc_column_text]War with us in the spirit as we strategize and intercede for our nation and the world at our annual SPAN Meeting this January. Come as you are and participate with us through worship\, impactful teachings\, and reports of what strategic prayer has done in the U.S. and nationwide through our prayer network. As a group\, we will also come together to pray strategically and hear God’s voice as we head into 2025 continuing to prophetically stand for our communities\, cities\, states\, and regions![/vc_column_text][wyde_button title=”Register Here” style=”outline” size=”large” link=”url:%2Fproduct%2Fstrategic-prayer-apostolic-network-span-meeting-2025%2F” css=”.vc_custom_1723668309780{background-color: #ffffff !important;}” bg_color=”#b9a06f”][/vc_column][/vc_row]
URL:https://christianharvestintl.org/event/strategic-prayer-apostolic-network-span-meeting-2025/
LOCATION:Glory of Zion International\, 7801 S Interstate 35 East\, Corinth\, TX\, 76210\, United States
ATTACH;FMTTYPE=image/jpeg:https://christianharvestintl.org/wp-content/uploads/2024/08/SPAN-Meeting-2025-1.jpg
END:VEVENT
END:VCALENDAR