BEGIN:VCALENDAR
VERSION:2.0
PRODID:-//Christian Harvest International - ECPv6.15.14//NONSGML v1.0//EN
CALSCALE:GREGORIAN
METHOD:PUBLISH
X-WR-CALNAME:Christian Harvest International
X-ORIGINAL-URL:https://christianharvestintl.org
X-WR-CALDESC:Events for Christian Harvest International
REFRESH-INTERVAL;VALUE=DURATION:PT1H
X-Robots-Tag:noindex
X-PUBLISHED-TTL:PT1H
BEGIN:VTIMEZONE
TZID:America/Denver
BEGIN:DAYLIGHT
TZOFFSETFROM:-0700
TZOFFSETTO:-0600
TZNAME:MDT
DTSTART:20210314T090000
END:DAYLIGHT
BEGIN:STANDARD
TZOFFSETFROM:-0600
TZOFFSETTO:-0700
TZNAME:MST
DTSTART:20211107T080000
END:STANDARD
BEGIN:DAYLIGHT
TZOFFSETFROM:-0700
TZOFFSETTO:-0600
TZNAME:MDT
DTSTART:20220313T090000
END:DAYLIGHT
BEGIN:STANDARD
TZOFFSETFROM:-0600
TZOFFSETTO:-0700
TZNAME:MST
DTSTART:20221106T080000
END:STANDARD
BEGIN:DAYLIGHT
TZOFFSETFROM:-0700
TZOFFSETTO:-0600
TZNAME:MDT
DTSTART:20230312T090000
END:DAYLIGHT
BEGIN:STANDARD
TZOFFSETFROM:-0600
TZOFFSETTO:-0700
TZNAME:MST
DTSTART:20231105T080000
END:STANDARD
END:VTIMEZONE
BEGIN:VEVENT
DTSTART;TZID=America/Denver:20221210T180000
DTEND;TZID=America/Denver:20221210T220000
DTSTAMP:20260423T191948
CREATED:20221027T144215Z
LAST-MODIFIED:20221027T144215Z
UID:10000079-1670695200-1670709600@christianharvestintl.org
SUMMARY:Global Vision Harvest Center
DESCRIPTION:
URL:https://christianharvestintl.org/event/global-vision-harvest-center/
LOCATION:Church of Refuge & Restoration\, 418 South Church Street\, Okolona\, MS\, United States
END:VEVENT
END:VCALENDAR