BEGIN:VCALENDAR
VERSION:2.0
PRODID:-//Christian Harvest International - ECPv6.15.14//NONSGML v1.0//EN
CALSCALE:GREGORIAN
METHOD:PUBLISH
X-ORIGINAL-URL:https://christianharvestintl.org
X-WR-CALDESC:Events for Christian Harvest International
REFRESH-INTERVAL;VALUE=DURATION:PT1H
X-Robots-Tag:noindex
X-PUBLISHED-TTL:PT1H
BEGIN:VTIMEZONE
TZID:America/Denver
BEGIN:DAYLIGHT
TZOFFSETFROM:-0700
TZOFFSETTO:-0600
TZNAME:MDT
DTSTART:20220313T090000
END:DAYLIGHT
BEGIN:STANDARD
TZOFFSETFROM:-0600
TZOFFSETTO:-0700
TZNAME:MST
DTSTART:20221106T080000
END:STANDARD
BEGIN:DAYLIGHT
TZOFFSETFROM:-0700
TZOFFSETTO:-0600
TZNAME:MDT
DTSTART:20230312T090000
END:DAYLIGHT
BEGIN:STANDARD
TZOFFSETFROM:-0600
TZOFFSETTO:-0700
TZNAME:MST
DTSTART:20231105T080000
END:STANDARD
BEGIN:DAYLIGHT
TZOFFSETFROM:-0700
TZOFFSETTO:-0600
TZNAME:MDT
DTSTART:20240310T090000
END:DAYLIGHT
BEGIN:STANDARD
TZOFFSETFROM:-0600
TZOFFSETTO:-0700
TZNAME:MST
DTSTART:20241103T080000
END:STANDARD
BEGIN:DAYLIGHT
TZOFFSETFROM:-0700
TZOFFSETTO:-0600
TZNAME:MDT
DTSTART:20250309T090000
END:DAYLIGHT
BEGIN:STANDARD
TZOFFSETFROM:-0600
TZOFFSETTO:-0700
TZNAME:MST
DTSTART:20251102T080000
END:STANDARD
END:VTIMEZONE
BEGIN:VEVENT
DTSTART;VALUE=DATE:20240403
DTEND;VALUE=DATE:20240407
DTSTAMP:20260423T155330
CREATED:20240124T214644Z
LAST-MODIFIED:20240124T214644Z
UID:10000098-1712102400-1712447999@christianharvestintl.org
SUMMARY:Global Summit 2024
DESCRIPTION:Harvest International Ministry and Ché Ahn present GLOBAL SUMMIT 2024\nJoin us at Global Summit 2024 on April 3-6\, 2024 in Pasadena\, California. Global Summit is our annual HIM conference equipping the next generation of leaders to transform their world. Across every sphere of influence\, come hear what the Spirit of God is saying and receive fresh impartation for your life\, family and ministry. \nDISCOUNTS: \n\nEarly bird rate is live! Use the code “earlybird” to get a $20 discount. Only until February 29\, 2024.\nFor HIM members\, please see your member emails for your member discount.
URL:https://christianharvestintl.org/event/global-summit-2024/
LOCATION:Ambassador Auditorium\, 131 South Saint John Ave\, Pasadena\, CA\, 91105\, United States
END:VEVENT
BEGIN:VEVENT
DTSTART;TZID=America/Denver:20230412T173000
DTEND;TZID=America/Denver:20230415T213000
DTSTAMP:20260423T155330
CREATED:20230123T200037Z
LAST-MODIFIED:20230123T212001Z
UID:10000084-1681320600-1681594200@christianharvestintl.org
SUMMARY:GLOBAL SUMMIT 2023: Epic Season of Transformation
DESCRIPTION:Harvest International Ministry and Ché Ahn present GLOBAL SUMMIT 2023: Epic Season of Transformation\nThe most dramatic chapter in history is about to unfold. If there was ever a time for the Church to arise\, now is the time. This is our epic season of transformation. \nJoin us at Global Summit 2023 on April 12-15\, 2023 in Pasadena\, California. Keynote speakers include Ché Ahn\, Bill Johnson\, Cindy Jacobs\, Dutch Sheets and Lance Wallnau. Also speaking are James Goll\, Tony Kim and Samuel Robinson. \nOur panelists include Jerame Nelson\, Aaron Winter\, Jay Koopman\, Carlos Huertas\, Becca Greenwood\, Preethy Kurian\, Ron Eivaz\, Paul Tan\, Dr. Jung Shik Hong\, Phil Liberatore\, Tony Young\, Sam Caster\, Leanne Goff\, Matt Sorger\, Benny Yang\, Rob Covell\, Sam Gallucci\, Daryl & Claudie Yamada\, Richard & Sylvia Neusch\, Robert & Kay Lee Fukui\, Sandy & Marianne Isfeld and more! \nWorship will be led by Harvest Rock Music and special guest Sarah Morales. \nGlobal Summit is our annual HIM conference equipping the next generation of leaders to transform their world. Across every sphere of influence\, come hear what the Spirit of God is saying and receive fresh impartation for your life\, family and ministry. \n*Note: Full schedule and additional speakers to be announced. Every ticket also includes livestream access.
URL:https://christianharvestintl.org/event/global-summit-2023-epic-season-of-transformation/
LOCATION:Ambassador Auditorium\, 131 South Saint John Ave\, Pasadena\, CA\, 91105\, United States
END:VEVENT
END:VCALENDAR