BEGIN:VCALENDAR
VERSION:2.0
PRODID:-//Christian Harvest International - ECPv6.15.14//NONSGML v1.0//EN
CALSCALE:GREGORIAN
METHOD:PUBLISH
X-WR-CALNAME:Christian Harvest International
X-ORIGINAL-URL:https://christianharvestintl.org
X-WR-CALDESC:Events for Christian Harvest International
REFRESH-INTERVAL;VALUE=DURATION:PT1H
X-Robots-Tag:noindex
X-PUBLISHED-TTL:PT1H
BEGIN:VTIMEZONE
TZID:America/Denver
BEGIN:DAYLIGHT
TZOFFSETFROM:-0700
TZOFFSETTO:-0600
TZNAME:MDT
DTSTART:20220313T090000
END:DAYLIGHT
BEGIN:STANDARD
TZOFFSETFROM:-0600
TZOFFSETTO:-0700
TZNAME:MST
DTSTART:20221106T080000
END:STANDARD
BEGIN:DAYLIGHT
TZOFFSETFROM:-0700
TZOFFSETTO:-0600
TZNAME:MDT
DTSTART:20230312T090000
END:DAYLIGHT
BEGIN:STANDARD
TZOFFSETFROM:-0600
TZOFFSETTO:-0700
TZNAME:MST
DTSTART:20231105T080000
END:STANDARD
BEGIN:DAYLIGHT
TZOFFSETFROM:-0700
TZOFFSETTO:-0600
TZNAME:MDT
DTSTART:20240310T090000
END:DAYLIGHT
BEGIN:STANDARD
TZOFFSETFROM:-0600
TZOFFSETTO:-0700
TZNAME:MST
DTSTART:20241103T080000
END:STANDARD
END:VTIMEZONE
BEGIN:VEVENT
DTSTART;VALUE=DATE:20230705
DTEND;VALUE=DATE:20230708
DTSTAMP:20260425T192109
CREATED:20230609T212513Z
LAST-MODIFIED:20230609T212513Z
UID:10000087-1688515200-1688774399@christianharvestintl.org
SUMMARY:Launch 2023 Discipleship School
DESCRIPTION:Launch Discipleship School is 4 weeks of intense and intentional preparation for those that have been called to Hollywood TO DO WORKS OF JUSTICE. Some of the best leaders/teachers in the Body of Christ will be coming to pour into students to get them ready to step into the specific calling that God has placed on their lives. It will also be a time when valuable relationships will be formed that will last a lifetime. \n\nIf you feel like your time of Breakthrough is near\, there is no better place to be this Summer. God is getting His people ready to unite and invade Arts & Entertainment like never before! \n\nJune 19 – July 16 \nRadiance International (1626 N La Brea Ave\, Los Angeles\, CA 90028) \nFull Time Students (School Only): $1100 \nFull Time Students (with Housing): $1700 \n​ \nDAILY SCHEDULE (Monday – Friday)10a-2p: Worship & Teaching/Impartation2p-midnight: 4 Hrs in Hollywood House of Prayer \n(Worship\, Prayer\, Soaking\, Reflection) 
URL:https://christianharvestintl.org/event/launch-2023-discipleship-school/
LOCATION:Radiance International\, 1626 N La Brea Ave\, Los Angeles\, CA\, 90028\, United States
END:VEVENT
BEGIN:VEVENT
DTSTART;TZID=America/Denver:20230709T080000
DTEND;TZID=America/Denver:20230711T170000
DTSTAMP:20260425T192109
CREATED:20230609T215205Z
LAST-MODIFIED:20230609T215205Z
UID:10000090-1688889600-1689094800@christianharvestintl.org
SUMMARY:Greater Works Holy Spirit Seminar
DESCRIPTION:
URL:https://christianharvestintl.org/event/greater-works-holy-spirit-seminar/
END:VEVENT
BEGIN:VEVENT
DTSTART;TZID=America/Denver:20230713T080000
DTEND;TZID=America/Denver:20230715T170000
DTSTAMP:20260425T192109
CREATED:20230625T212617Z
LAST-MODIFIED:20230625T212617Z
UID:10000091-1689235200-1689440400@christianharvestintl.org
SUMMARY:Deborahs United
DESCRIPTION:Generals International and Cindy Jacobs: \nI am so excited to invite you to Deborahs United 2023\, July 13th-15th at Trinity Church in Cedar Hill\, TX! Our theme this year is Mama Bears Arising. The title comes from a Holy Spirit encounter that I had with the Lord while in Pasadena\, California. My friend\, Lou Engle\, was speaking about how God is using women around the world. As he was sharing\, I kept thinking\, “Today is April 14th. What is the significance of that date?” Lou’s wife\, Therese\, told me\, “Cindy\, it is Esther 4:14! Esther was called for such a time as this!” \nThen the Lord said to me\, “It’s time for the Mama Bears to arise and fight for the children and our nations.” As we look around us there are evident signs of the family being destroyed and the biblical values of our nations deteriorating. We must take a stand! \nWould you join us this year and bring your Mama Bear teams? You will leave refreshed and charged up to see our children protected and nations rescued! And you will have personal victory as well. We will have a special time together to worship\, learn from the top women leaders\, receive impartations\, mantles\, pray for healing\, and plenty of prophetic ministry!
URL:https://christianharvestintl.org/event/deborahs-united/
END:VEVENT
BEGIN:VEVENT
DTSTART;TZID=America/Denver:20230728T080000
DTEND;TZID=America/Denver:20230728T170000
DTSTAMP:20260425T192109
CREATED:20230609T214301Z
LAST-MODIFIED:20230609T214301Z
UID:10000088-1690531200-1690563600@christianharvestintl.org
SUMMARY:Flawless Women's Conference
DESCRIPTION:No more delays. Now is your time!\nDESTINY AWAITS\n\n\nLadies\, you have prayed\, fasted\, and held on to the promises of God\, and now is your time to walk boldly into your future FLAWLESSLY.
URL:https://christianharvestintl.org/event/flawless-womens-conference/
LOCATION:Miramonte Resort\, 45000 Indian Wells LN\, Indian Wells\, CA\, United States
END:VEVENT
END:VCALENDAR