BEGIN:VCALENDAR
VERSION:2.0
PRODID:-//Christian Harvest International - ECPv6.15.14//NONSGML v1.0//EN
CALSCALE:GREGORIAN
METHOD:PUBLISH
X-WR-CALNAME:Christian Harvest International
X-ORIGINAL-URL:https://christianharvestintl.org
X-WR-CALDESC:Events for Christian Harvest International
REFRESH-INTERVAL;VALUE=DURATION:PT1H
X-Robots-Tag:noindex
X-PUBLISHED-TTL:PT1H
BEGIN:VTIMEZONE
TZID:America/Denver
BEGIN:DAYLIGHT
TZOFFSETFROM:-0700
TZOFFSETTO:-0600
TZNAME:MDT
DTSTART:20200308T090000
END:DAYLIGHT
BEGIN:STANDARD
TZOFFSETFROM:-0600
TZOFFSETTO:-0700
TZNAME:MST
DTSTART:20201101T080000
END:STANDARD
BEGIN:DAYLIGHT
TZOFFSETFROM:-0700
TZOFFSETTO:-0600
TZNAME:MDT
DTSTART:20210314T090000
END:DAYLIGHT
BEGIN:STANDARD
TZOFFSETFROM:-0600
TZOFFSETTO:-0700
TZNAME:MST
DTSTART:20211107T080000
END:STANDARD
BEGIN:DAYLIGHT
TZOFFSETFROM:-0700
TZOFFSETTO:-0600
TZNAME:MDT
DTSTART:20220313T090000
END:DAYLIGHT
BEGIN:STANDARD
TZOFFSETFROM:-0600
TZOFFSETTO:-0700
TZNAME:MST
DTSTART:20221106T080000
END:STANDARD
BEGIN:DAYLIGHT
TZOFFSETFROM:-0700
TZOFFSETTO:-0600
TZNAME:MDT
DTSTART:20230312T090000
END:DAYLIGHT
BEGIN:STANDARD
TZOFFSETFROM:-0600
TZOFFSETTO:-0700
TZNAME:MST
DTSTART:20231105T080000
END:STANDARD
END:VTIMEZONE
BEGIN:VEVENT
DTSTART;TZID=America/Denver:20220304T080000
DTEND;TZID=America/Denver:20220306T170000
DTSTAMP:20260425T094551
CREATED:20220118T230027Z
LAST-MODIFIED:20220118T230027Z
UID:10000066-1646380800-1646586000@christianharvestintl.org
SUMMARY:Deliverance Training
DESCRIPTION:Deliverance Training in Newark\, NJ with Pasqual and Norma Urrabazo
URL:https://christianharvestintl.org/event/deliverance-training/
END:VEVENT
BEGIN:VEVENT
DTSTART;TZID=America/Denver:20220217T183000
DTEND;TZID=America/Denver:20220219T153000
DTSTAMP:20260425T094551
CREATED:20220118T225653Z
LAST-MODIFIED:20220118T225653Z
UID:10000065-1645122600-1645284600@christianharvestintl.org
SUMMARY:Deborah's Arising 2022
DESCRIPTION:Join us for our annual women’s conference. This year’s guest speakers are Becca Greenwood\, Anna Love Rylander\, and Amy Rylander\n\n\n\n\n\nAbout this event\n\n\nBecca Greenwood is the senior leader of Christian Harvest Internation and the apostolic leader of SPAN (Strategic Prayer Apostolic Network). She has a heart to see people walking in freedom and glory. \nThursday\, 17th 6:30 pm \nFriday \,18th 9 am-3:30 pm and 6:30 pm \nSaturday\, 19th 9am-3:30 pm
URL:https://christianharvestintl.org/event/deborahs-arising-2022/
END:VEVENT
BEGIN:VEVENT
DTSTART;TZID=America/Denver:20220205T083000
DTEND;TZID=America/Denver:20220205T153000
DTSTAMP:20260425T094551
CREATED:20220118T073238Z
LAST-MODIFIED:20220118T073238Z
UID:10000064-1644049800-1644075000@christianharvestintl.org
SUMMARY:Exceptional Woman Roundtable
DESCRIPTION:
URL:https://christianharvestintl.org/event/exceptional-woman-roundtable/
END:VEVENT
BEGIN:VEVENT
DTSTART;TZID=America/Denver:20211028T190000
DTEND;TZID=America/Denver:20211030T170000
DTSTAMP:20260425T094551
CREATED:20210820T134930Z
LAST-MODIFIED:20210820T155155Z
UID:10000063-1635447600-1635613200@christianharvestintl.org
SUMMARY:Awakening The Wells Of Revival: Discerning The Spirit Realm for Intercession\, Warfare\, & Awakening!
DESCRIPTION:Oct. 28\, 7-9pm\nOct. 29\, 10am-9pm\nOct. 30\, 10am-9pm\nRegister Today!
URL:https://christianharvestintl.org/event/awakening-the-wells-of-revival-discerning-the-spirit-realm-for-intercession-warfare-awakening/
LOCATION:Hilton Kansas City Airport\, 8801 NW 112th Street\, Kansas City\, Missouri\, 64153
END:VEVENT
END:VCALENDAR