BEGIN:VCALENDAR
VERSION:2.0
PRODID:-//Christian Harvest International - ECPv6.15.14//NONSGML v1.0//EN
CALSCALE:GREGORIAN
METHOD:PUBLISH
X-WR-CALNAME:Christian Harvest International
X-ORIGINAL-URL:https://christianharvestintl.org
X-WR-CALDESC:Events for Christian Harvest International
REFRESH-INTERVAL;VALUE=DURATION:PT1H
X-Robots-Tag:noindex
X-PUBLISHED-TTL:PT1H
BEGIN:VTIMEZONE
TZID:America/Denver
BEGIN:DAYLIGHT
TZOFFSETFROM:-0700
TZOFFSETTO:-0600
TZNAME:MDT
DTSTART:20200308T090000
END:DAYLIGHT
BEGIN:STANDARD
TZOFFSETFROM:-0600
TZOFFSETTO:-0700
TZNAME:MST
DTSTART:20201101T080000
END:STANDARD
BEGIN:DAYLIGHT
TZOFFSETFROM:-0700
TZOFFSETTO:-0600
TZNAME:MDT
DTSTART:20210314T090000
END:DAYLIGHT
BEGIN:STANDARD
TZOFFSETFROM:-0600
TZOFFSETTO:-0700
TZNAME:MST
DTSTART:20211107T080000
END:STANDARD
BEGIN:DAYLIGHT
TZOFFSETFROM:-0700
TZOFFSETTO:-0600
TZNAME:MDT
DTSTART:20220313T090000
END:DAYLIGHT
BEGIN:STANDARD
TZOFFSETFROM:-0600
TZOFFSETTO:-0700
TZNAME:MST
DTSTART:20221106T080000
END:STANDARD
BEGIN:DAYLIGHT
TZOFFSETFROM:-0700
TZOFFSETTO:-0600
TZNAME:MDT
DTSTART:20230312T090000
END:DAYLIGHT
BEGIN:STANDARD
TZOFFSETFROM:-0600
TZOFFSETTO:-0700
TZNAME:MST
DTSTART:20231105T080000
END:STANDARD
BEGIN:DAYLIGHT
TZOFFSETFROM:-0700
TZOFFSETTO:-0600
TZNAME:MDT
DTSTART:20240310T090000
END:DAYLIGHT
BEGIN:STANDARD
TZOFFSETFROM:-0600
TZOFFSETTO:-0700
TZNAME:MST
DTSTART:20241103T080000
END:STANDARD
END:VTIMEZONE
BEGIN:VEVENT
DTSTART;TZID=America/Denver:20230203T080000
DTEND;TZID=America/Denver:20230205T170000
DTSTAMP:20260423T141711
CREATED:20230123T185505Z
LAST-MODIFIED:20230123T185505Z
UID:10000080-1675411200-1675616400@christianharvestintl.org
SUMMARY:Kingdom Gravity Ministries
DESCRIPTION:
URL:https://christianharvestintl.org/event/kingdom-gravity-ministries/
LOCATION:Rockwall\, TX\, Rockwall\, TX\, United States
END:VEVENT
BEGIN:VEVENT
DTSTART;TZID=America/Denver:20221210T180000
DTEND;TZID=America/Denver:20221210T220000
DTSTAMP:20260423T141711
CREATED:20221027T144215Z
LAST-MODIFIED:20221027T144215Z
UID:10000079-1670695200-1670709600@christianharvestintl.org
SUMMARY:Global Vision Harvest Center
DESCRIPTION:
URL:https://christianharvestintl.org/event/global-vision-harvest-center/
LOCATION:Church of Refuge & Restoration\, 418 South Church Street\, Okolona\, MS\, United States
END:VEVENT
BEGIN:VEVENT
DTSTART;TZID=America/Denver:20221109T080000
DTEND;TZID=America/Denver:20221113T170000
DTSTAMP:20260423T141711
CREATED:20221006T202714Z
LAST-MODIFIED:20221006T202714Z
UID:10000077-1667980800-1668358800@christianharvestintl.org
SUMMARY:Going Beyond Retreat
DESCRIPTION:
URL:https://christianharvestintl.org/event/going-beyond-retreat/
END:VEVENT
BEGIN:VEVENT
DTSTART;TZID=America/Denver:20221028T100000
DTEND;TZID=America/Denver:20221029T230000
DTSTAMP:20260423T141711
CREATED:20221006T202430Z
LAST-MODIFIED:20221006T205646Z
UID:10000076-1666951200-1667084400@christianharvestintl.org
SUMMARY:National Prayer Summit
DESCRIPTION:National Prayer Summit\n\n\n\n\n\nThe National Prayer Summit is a unified kingdom movement\, serving as a catalyst for authentic revival. Through prayer and mobilizing the Body of Christ\, this is the time for our voice to be heard! \n\n\n\n\n\nSpeakers: Rick Joyner\, Charles Ndifon\, Chuck Pierce\, James Goll\, Becca Greenwood\, Cindy Jacobs\, Steven Springer\, Che Ahn\, Candice Smithyman\, Codriguez Alexander\, and Aaron Winter\n\n\n\n\nWorship: WorshipMob & Jesus Co.\n\n\n\n\nSpanish Translation Available – Earbuds needed\n\n\n\n\nEvent Location: 2511 NE Martin Luther King JR. Portland Oregon 97212\n\n\n\n\nNearest Airport: Portland International Airport (PDX)
URL:https://christianharvestintl.org/event/national-prayer-summit/
LOCATION:2511 NE Martin Luther King JR. Portland Oregon 97212\, 2511 NE Martin Luther King JR.\, Portland\, OR\, 97212\, United States
END:VEVENT
BEGIN:VEVENT
DTSTART;TZID=America/Denver:20221021T190000
DTEND;TZID=America/Denver:20221022T210000
DTSTAMP:20260423T141711
CREATED:20221006T204858Z
LAST-MODIFIED:20221006T205347Z
UID:10000078-1666378800-1666472400@christianharvestintl.org
SUMMARY:Ekklesia United Conference
DESCRIPTION:LivingStones Communities \nEkklesia United \nFor The Cause of Christ \nGuest Speaker- Apostle Becca Greenwood \nIt’s time for North Ohio Ekklesia to Unite to take back the Kingdom of God! \nEarly bird $50 pp \nAfter Oct 15th $75 \nFriday 7 pm- 10 pm \nSaturday 10 am- 12 noon 2pm- 5 pm\, 7 pm-9pm \nBreaks for Lunch and Dinner \nRegister through QR code
URL:https://christianharvestintl.org/event/ekklesia-united-conference/
LOCATION:Four Points Sheraton\, 4181 W. 150th St.\, Cleveland\, OH\, 44135\, United States
END:VEVENT
BEGIN:VEVENT
DTSTART;TZID=America/Denver:20221014T190000
DTEND;TZID=America/Denver:20221015T210000
DTSTAMP:20260423T141711
CREATED:20221006T201746Z
LAST-MODIFIED:20221006T201746Z
UID:10000075-1665774000-1665867600@christianharvestintl.org
SUMMARY:Breakthrough Conference at The Gate DC
DESCRIPTION:The Breakthrough Conference with Ken Fish and Rebecca Greenwood begins Friday night at 7:00 PM and continues Saturday morning from 9:00 to Noon with a lunch break and the third session from 2:00 to 5:00 PM and a fourth and final session Saturday night at 7:00 PM.  All sessions will be in the main Sanctuary.  This will be a powerful equipping conference where you will encounter the manifest presence of the Lord.  The Gate DC is a place of His presence and His power. Registrations are free but you must register.  The conference is free\, but registration is required.  REGISTER NOW for this session and the conference.  The Gate DC and the Breakthrough Conference are at 10922 Vale Road\, Oakton\, VA 22124.
URL:https://christianharvestintl.org/event/breakthrough-conference-at-the-gate-dc/
END:VEVENT
BEGIN:VEVENT
DTSTART;TZID=America/Denver:20220827T090000
DTEND;TZID=America/Denver:20220827T170000
DTSTAMP:20260423T141711
CREATED:20220705T172154Z
LAST-MODIFIED:20220705T172154Z
UID:10000074-1661590800-1661619600@christianharvestintl.org
SUMMARY:Possess the Gates- North Carolina
DESCRIPTION:Join us on Saturday\, August 27th at Goldsboro Worship Center for POSSESS THE GATES – NORTH CAROLINA! \nLeading Apostles and Prophets from around the country are converging in Goldsboro\, North Carolina to lead the Ekklesia in worship and warfare to shift the city\, region\, state\, and nation! We believe Goldsboro is ripe for awakening and revival. \nCome and join us as we contend together as one\, prophetically hearing the word of the Lord\, gaining key strategy to move forward\, and taking down the giants that stand in our way. \nThis event is FREE\, but registration is required. No childcare will be provided. \n\nFREE EVENT\, but you must register. \n  \nhttps://amandahill.org/event/4681316/600284594/possess-the-gates-north-carolina
URL:https://christianharvestintl.org/event/possess-the-gates-north-carolina/
END:VEVENT
BEGIN:VEVENT
DTSTART;VALUE=DATE:20220729
DTEND;VALUE=DATE:20220731
DTSTAMP:20260423T141711
CREATED:20220414T232115Z
LAST-MODIFIED:20220502T172521Z
UID:10000070-1659052800-1659225599@christianharvestintl.org
SUMMARY:Flawless Women's Conference 2K22
DESCRIPTION:IT’S HERE!\n\n\nLadies\, It’s time to CONQUER! \nThis year’s women’s conference theme is She Prays; She Leads; She CONQUERS. Your fight has not been in vain because you are a Daughter of the king you will not fail.  Come ready to experience God’s transformation power\, receive His power\, and ignite your purpose. \n#Flawless2K22
URL:https://christianharvestintl.org/event/flawless-womens-conference-2k22/
LOCATION:Renaissance Esmerelda Resort\, 44400 Indian Wells Lane\, Indian Wells\, CA\, 92210\, United States
END:VEVENT
BEGIN:VEVENT
DTSTART;TZID=America/Denver:20220715T150000
DTEND;TZID=America/Denver:20220716T220000
DTSTAMP:20260423T141711
CREATED:20220705T171236Z
LAST-MODIFIED:20220705T171236Z
UID:10000073-1657897200-1658008800@christianharvestintl.org
SUMMARY:Freedom Conference
DESCRIPTION:Freedom Conference\, Ridgecrest\, CA \n\nDo you want healing? Do you need deliverance? It’s time to break chains! \n\n\nJoin us here at Ridgecrest Vineyard Church in our Freedom Conference 2022.\n\n\nFreedom comes when the church ignites their generation with passion for the Lord. \n\n\nYou do not want to miss all of this!\n\n\n July 14th-July 16th\n1000 N. Norma St.\, Ridgecrest\, CA\n\n\nSign up using this link:\n\nhttps://rvclife.ccbchurch.com/goto/forms/48/responses/new
URL:https://christianharvestintl.org/event/freedom-conference/
END:VEVENT
BEGIN:VEVENT
DTSTART;TZID=America/Denver:20220609T190000
DTEND;TZID=America/Denver:20220612T130000
DTSTAMP:20260423T141711
CREATED:20220422T213618Z
LAST-MODIFIED:20220422T213649Z
UID:10000071-1654801200-1655038800@christianharvestintl.org
SUMMARY:Glory Awakening
DESCRIPTION:We are going from Glory to GLORY! We want you to come with us! \nThis June\, The River Church in partnership with The Portal School will host two back-to-back glory conferences with celebrated speakers Brian Simmons and Becca Greenwood. Join us in Bozeman\, Montana for one conference and be blessed. Join us for both and be DOUBLY blessed!  Discounted prices are available for couples\, families and those attending both conferences. Early Bird rates end May 27. 
URL:https://christianharvestintl.org/event/glory-awakening/
LOCATION:The River Church\, 205 Haggerty Lane\, Suite 100\, Bozeman\, MT\, 59715\, United States
END:VEVENT
BEGIN:VEVENT
DTSTART;TZID=America/Denver:20220522T100000
DTEND;TZID=America/Denver:20220522T140000
DTSTAMP:20260423T141711
CREATED:20220502T172333Z
LAST-MODIFIED:20220502T172333Z
UID:10000072-1653213600-1653228000@christianharvestintl.org
SUMMARY:Maranatha Glory Apostolic Center
DESCRIPTION:
URL:https://christianharvestintl.org/event/maranatha-glory-apostolic-center/
LOCATION:Maranatha Glory Apostolic Center\, 9636 W Hepton Rd.\, Nappanee\, IN\, 46550\, United States
END:VEVENT
BEGIN:VEVENT
DTSTART;TZID=America/Denver:20220506T180000
DTEND;TZID=America/Denver:20220509T170000
DTSTAMP:20260423T141711
CREATED:20220414T230719Z
LAST-MODIFIED:20220414T230719Z
UID:10000068-1651860000-1652115600@christianharvestintl.org
SUMMARY:Gathering of Eagles
DESCRIPTION:
URL:https://christianharvestintl.org/event/gathering-of-eagles/
END:VEVENT
BEGIN:VEVENT
DTSTART;TZID=America/Denver:20220429T190000
DTEND;TZID=America/Denver:20220430T220000
DTSTAMP:20260423T141711
CREATED:20220414T231420Z
LAST-MODIFIED:20220414T231420Z
UID:10000069-1651258800-1651356000@christianharvestintl.org
SUMMARY:Breakthrough Conference
DESCRIPTION:Breakthrough Conference— Praying Unto Breakthrough in Spiritual Warfare \n  \nKen Fish and Becca Greenwood have many years of ministry in Spiritual Warfare. This will be an impartation of spiritual reality and truth
URL:https://christianharvestintl.org/event/breakthrough-conference/
LOCATION:The Gate DC\, 10922 Vale Road\, Oakton\, VA\, 22124\, United States
END:VEVENT
BEGIN:VEVENT
DTSTART;TZID=America/Denver:20220428T190000
DTEND;TZID=America/Denver:20220430T220000
DTSTAMP:20260423T141711
CREATED:20220325T221655Z
LAST-MODIFIED:20220325T221655Z
UID:10000067-1651172400-1651356000@christianharvestintl.org
SUMMARY:Woman Arise 2022 Encounter Awakening
DESCRIPTION:Woman Arise 2022–Encounter Awakening! April 28-30\, 2022 (See tentative schedule below.)\n\n\n\n\n\n\nAbout this event\n\n\nWe are so excited to be back by the river at Hilton DoubleTree Conference Center/Hotel in downtown Evansville\, Indiana for Women Arise 2022! We have a great line-up of speakers this year–hosted by Apostle Janet Douglas and CityGate Indiana. Our special guests are Apostle Barbara Yoder\, Becca Greenwood\, and Becky Albert. This year we will be adding Kim Owens\, Gina Gholston\, Connie Childs\, and others for our “Encounter Awakening!” We are also excited to have Derick Thomas leading worship and prophetic artist\, Amy Rylander painting with us. We will have two full days and three evenings to “Encounter Awakening.” Take notice–we have added a Saturday evening session for a healing service. The cost for the entire gathering is $89. This is the early bird rate. The rate will increase to $99 on March 15\, 2022\, so be sure to register soon. NO REFUNDS! \nWE FULLY EXPECT EACH OF YOU TO ENCOUNTER GOD IN THIS AWAKENING GATHERING! \nDue to covid\, there will be a few things that you will need to consider as you plan your weekend. We have been able to secure great hotel rates for you at the hotel to keep your cost minimum. In fact\, Hilton is providing a special discounted rate for rooms\, including free parking and two vouchers for free breakfast at the hotel. However\, due to covid and staff issues\, the hotel will not be offering lunches . Be assured\, there are many restaurants within walking distance . Take advantage of the great prices that Hilton DoubleTree Hotel has given us\, and plan to embrace the whole weekend experience together. You must click below to receive these special rates: \nClick here to reserve your room(s) at Hilton DoubleTree. \nTentative schedule: \n4/28–7:00 pm to 10 pm /Doors open at 5:45 pm \n4/29–9:00 am to noon; 2:00 pm to 5:00 pm; 7:00 pm to 10:00 pm/Doors open at 8:15 am \n4/30–9:00 am to noon; 2:00 pm to 5:00 pm; 7:00 pm to ending time (?)/Doors open at 8:15 am \nWe trust that as you pray and hear from Holy Spirit about attending\, we want you to know that if you choose to wear a mask\, you are welcome to do so\, but masks are not required. We are working with the hotel staff and are taking great care to provide a healthy and safe environment. \nWe look forward to seeing you this year as we launch into the deeper rivers of Glory! \nAll for Him and His Glory\, Janet Douglas
URL:https://christianharvestintl.org/event/woman-arise-2022-encounter-awakening/
END:VEVENT
BEGIN:VEVENT
DTSTART;TZID=America/Denver:20220304T080000
DTEND;TZID=America/Denver:20220306T170000
DTSTAMP:20260423T141711
CREATED:20220118T230027Z
LAST-MODIFIED:20220118T230027Z
UID:10000066-1646380800-1646586000@christianharvestintl.org
SUMMARY:Deliverance Training
DESCRIPTION:Deliverance Training in Newark\, NJ with Pasqual and Norma Urrabazo
URL:https://christianharvestintl.org/event/deliverance-training/
END:VEVENT
BEGIN:VEVENT
DTSTART;TZID=America/Denver:20220217T183000
DTEND;TZID=America/Denver:20220219T153000
DTSTAMP:20260423T141711
CREATED:20220118T225653Z
LAST-MODIFIED:20220118T225653Z
UID:10000065-1645122600-1645284600@christianharvestintl.org
SUMMARY:Deborah's Arising 2022
DESCRIPTION:Join us for our annual women’s conference. This year’s guest speakers are Becca Greenwood\, Anna Love Rylander\, and Amy Rylander\n\n\n\n\n\nAbout this event\n\n\nBecca Greenwood is the senior leader of Christian Harvest Internation and the apostolic leader of SPAN (Strategic Prayer Apostolic Network). She has a heart to see people walking in freedom and glory. \nThursday\, 17th 6:30 pm \nFriday \,18th 9 am-3:30 pm and 6:30 pm \nSaturday\, 19th 9am-3:30 pm
URL:https://christianharvestintl.org/event/deborahs-arising-2022/
END:VEVENT
BEGIN:VEVENT
DTSTART;TZID=America/Denver:20220205T083000
DTEND;TZID=America/Denver:20220205T153000
DTSTAMP:20260423T141711
CREATED:20220118T073238Z
LAST-MODIFIED:20220118T073238Z
UID:10000064-1644049800-1644075000@christianharvestintl.org
SUMMARY:Exceptional Woman Roundtable
DESCRIPTION:
URL:https://christianharvestintl.org/event/exceptional-woman-roundtable/
END:VEVENT
BEGIN:VEVENT
DTSTART;TZID=America/Denver:20211028T190000
DTEND;TZID=America/Denver:20211030T170000
DTSTAMP:20260423T141711
CREATED:20210820T134930Z
LAST-MODIFIED:20210820T155155Z
UID:10000063-1635447600-1635613200@christianharvestintl.org
SUMMARY:Awakening The Wells Of Revival: Discerning The Spirit Realm for Intercession\, Warfare\, & Awakening!
DESCRIPTION:Oct. 28\, 7-9pm\nOct. 29\, 10am-9pm\nOct. 30\, 10am-9pm\nRegister Today!
URL:https://christianharvestintl.org/event/awakening-the-wells-of-revival-discerning-the-spirit-realm-for-intercession-warfare-awakening/
LOCATION:Hilton Kansas City Airport\, 8801 NW 112th Street\, Kansas City\, Missouri\, 64153
END:VEVENT
END:VCALENDAR