BEGIN:VCALENDAR
VERSION:2.0
PRODID:-//Christian Harvest International - ECPv6.15.14//NONSGML v1.0//EN
CALSCALE:GREGORIAN
METHOD:PUBLISH
X-ORIGINAL-URL:https://christianharvestintl.org
X-WR-CALDESC:Events for Christian Harvest International
REFRESH-INTERVAL;VALUE=DURATION:PT1H
X-Robots-Tag:noindex
X-PUBLISHED-TTL:PT1H
BEGIN:VTIMEZONE
TZID:America/Denver
BEGIN:DAYLIGHT
TZOFFSETFROM:-0700
TZOFFSETTO:-0600
TZNAME:MDT
DTSTART:20240310T090000
END:DAYLIGHT
BEGIN:STANDARD
TZOFFSETFROM:-0600
TZOFFSETTO:-0700
TZNAME:MST
DTSTART:20241103T080000
END:STANDARD
BEGIN:DAYLIGHT
TZOFFSETFROM:-0700
TZOFFSETTO:-0600
TZNAME:MDT
DTSTART:20250309T090000
END:DAYLIGHT
BEGIN:STANDARD
TZOFFSETFROM:-0600
TZOFFSETTO:-0700
TZNAME:MST
DTSTART:20251102T080000
END:STANDARD
BEGIN:DAYLIGHT
TZOFFSETFROM:-0700
TZOFFSETTO:-0600
TZNAME:MDT
DTSTART:20260308T090000
END:DAYLIGHT
BEGIN:STANDARD
TZOFFSETFROM:-0600
TZOFFSETTO:-0700
TZNAME:MST
DTSTART:20261101T080000
END:STANDARD
BEGIN:DAYLIGHT
TZOFFSETFROM:-0700
TZOFFSETTO:-0600
TZNAME:MDT
DTSTART:20270314T090000
END:DAYLIGHT
BEGIN:STANDARD
TZOFFSETFROM:-0600
TZOFFSETTO:-0700
TZNAME:MST
DTSTART:20271107T080000
END:STANDARD
END:VTIMEZONE
BEGIN:VEVENT
DTSTART;VALUE=DATE:20250917
DTEND;VALUE=DATE:20250922
DTSTAMP:20260425T104856
CREATED:20250202T233456Z
LAST-MODIFIED:20250202T233456Z
UID:10000104-1758067200-1758499199@christianharvestintl.org
SUMMARY:In-Person Spiritual Warfare School
DESCRIPTION:[vc_row][vc_column][vc_column_text]For over a decade CHI has been training people in spiritual warfare through our school offered online and a Unit 3 in-person prayer journey to complete it. This school includes many teachings that introduce you to the realm of spiritual warfare and strategies to overcome the enemy. Our ministry has so enjoyed watching numerous individuals and groups go through this course and come out spiritual warriors\, a very rewarding process! \nHowever\, with our success in doing our FIRST in-person school in 2024\, Becca feels it is important to continue offering an in-person option at the CHI offices every year. All those who participate will have the opportunity to join Becca’s Strategic Prayer Apostolic Network\, which is a network that sets out to transform communities\, cities\, states\, nations\, governments\, etc. through spiritual warfare! \nDon’t miss out on this opportunity to take part in a once-in-a-lifetime\, interactive\, comprehensive training from one of the pioneers in spiritual warfare. Come to stunning Colorado during the most beautiful time of year to see unforgettable sites like the infamous Pikes Peak\, Garden of the Gods\, Cave of the Winds\, the Olympic training center\, or the Cheyenne Mountain Zoo (voted 5th best in North America!). \nNow is the time to take up your armor of God and engage in spiritual battle to bring TRANSFORMATION and VICTORY in your life and the lives of others! \nWHEN:\nFirst Time Meeting:\nJuly 30-August 2\, 2025\n– Wednesday\, July 30 | 5-9 PM (includes dinner with Becca)\n– Thursday\, July 31 | 10 AM-5PM\n– Friday\, August 1 | 10 AM-5 PM\n– Saturday\, August 2 | 10 AM-5 PM \nSecond Time Meeting:\nSeptember 17-21\, 2025\n– Wednesday\, September 17 | 10 AM-5 PM\n– Thursday\, September 18 | 10 AM-5PM\n– Friday\, September 19 | 10 AM-5 PM\n– Saturday\, September 20 | Times TBD – Prayer Journey Day\n– Sunday\, September 21 | Times TBD – Sunday morning breakfast/handing out certificates \nPRICE:\n$499/person \nREGISTRATION:\nTo register\, you must first complete this application. Upon completion\, we will send you a link to register. Each person who registers will get a special goodie bag from CHI upon arrival at the meeting![/vc_column_text][wyde_button title=”See More Info” link=”url:%2Fproduct%2Fin-person-spiritual-warfare-school%2F”][/vc_column][/vc_row]
URL:https://christianharvestintl.org/event/in-person-spiritual-warfare-school-2/
LOCATION:Christian Harvest International Offices\, 22495 N Elbert Rd\, Suite B\, Elbert\, CO\, 80106\, United States
ATTACH;FMTTYPE=image/jpeg:https://christianharvestintl.org/wp-content/uploads/2025/01/in-person-spiritual-warfare-school.jpg
END:VEVENT
BEGIN:VEVENT
DTSTART;VALUE=DATE:20251120
DTEND;VALUE=DATE:20251123
DTSTAMP:20260425T104856
CREATED:20250202T233803Z
LAST-MODIFIED:20250202T233803Z
UID:10000105-1763596800-1763855999@christianharvestintl.org
SUMMARY:Dethroning the Queen of Heaven Training
DESCRIPTION:[vc_row][vc_column][vc_column_text]Calling all strategic prayer warriors!! Be activated by Becca Greenwood to stand against the Queen of Heaven in your life\, region\, and nation! Though this spirit takes on many names―Lilith\, Ishtar\, Jezebel\, Cybele\, Mami Wata\, Santa Muerte\, goddess Isis―it can be traced back to the Queen of Heaven. Learn more about this demonic entity\, symptoms of the spirit’s presence in your life and regions\, the corruption that results from the Queen of Heaven\, and most of all\, prayer strategies to stand against it! \nWhile attending this training\, don’t forget to check out all the breathtaking sites in Colorado. Some of these locations include Pikes Peak\, Garden of the Gods\, Cave of the Winds\, the Olympic training center\, or the Cheyenne Mountain Zoo (voted 5th best in North America!). \nWHEN:\nNovember 20-22\, 2025\n– Thursday\, November 20 | 6-9 PM *optional dinner with Becca\n– Friday\, November 21 | 10 AM-5 PM\n– Saturday\, November 22 | 10 AM-5 PM \nPRICE:\n$299/person \nREGISTRATION:\nTo register\, you must first complete this application. Upon completion\, we will send you a link to register. Each person who registers will get a special goodie bag from CHI upon arrival at the meeting![/vc_column_text][wyde_button title=”See More Info” link=”url:%2Fproduct%2Fdethroning-the-queen-of-heaven-training%2F”][/vc_column][/vc_row]
URL:https://christianharvestintl.org/event/dethroning-the-queen-of-heaven-training/
LOCATION:Christian Harvest International Offices\, 22495 N Elbert Rd\, Suite B\, Elbert\, CO\, 80106\, United States
ATTACH;FMTTYPE=image/jpeg:https://christianharvestintl.org/wp-content/uploads/2025/01/dethroning-in-person.jpg
END:VEVENT
BEGIN:VEVENT
DTSTART;TZID=America/Denver:20260117T080000
DTEND;TZID=America/Denver:20260118T170000
DTSTAMP:20260425T104856
CREATED:20260114T220127Z
LAST-MODIFIED:20260114T220127Z
UID:10000114-1768636800-1768755600@christianharvestintl.org
SUMMARY:Coastlands Church
DESCRIPTION:
URL:https://christianharvestintl.org/event/coastlands-church/
LOCATION:coastlands church\, United Kingdom
END:VEVENT
BEGIN:VEVENT
DTSTART;TZID=America/Denver:20260119T080000
DTEND;TZID=America/Denver:20260120T170000
DTSTAMP:20260425T104856
CREATED:20260114T221214Z
LAST-MODIFIED:20260114T221214Z
UID:10000115-1768809600-1768928400@christianharvestintl.org
SUMMARY:Rhema Restoration Ministries
DESCRIPTION:7:30 pm both nights
URL:https://christianharvestintl.org/event/rhema-restoration-ministries/
LOCATION:Rhema Restoration Ministries\, Ireland
END:VEVENT
BEGIN:VEVENT
DTSTART;TZID=America/Denver:20260123T080000
DTEND;TZID=America/Denver:20260125T170000
DTSTAMP:20260425T104856
CREATED:20260114T221750Z
LAST-MODIFIED:20260114T221750Z
UID:10000116-1769155200-1769360400@christianharvestintl.org
SUMMARY:Dethroning the Queen of Heaven
DESCRIPTION:Dethroning the Queen of Heaven is a biblically grounded training that exposes ancient counterfeit spiritual systems still operating today—and equips believers to stand in truth\, authority\, and freedom through Christ. Join Rebecca Greenwood for teaching\, prayer\, and strategic equipping for this critical hour.\n\n\nWhat This Training Will Cover\n✔ Biblical foundations surrounding the Queen of Heaven\n✔ Ancient roots and modern manifestations ✔ Counterfeit mercy vs. the true heart of God\n✔ Discerning deception that appears “good” or “spiritual”\n✔ Strategic prayer\, repentance\, and renunciation\n✔ Walking in Christ’s authority without fear or striving \nWho Should Attend\n• Intercessors & prayer leaders\n• Pastors & ministry teams\n• Prophetic voices & watchmen\n• Deliverance ministers\n• Believers sensing a call to guard spiritual gates\n​• Anyone hungry for biblical truth and spiritual clarity
URL:https://christianharvestintl.org/event/dethroning-the-queen-of-heaven/
LOCATION:City Gate Indiana\, 320 Eagle Crest Dr\, Evansville\, IN\, 47715\, United States
END:VEVENT
BEGIN:VEVENT
DTSTART;TZID=America/Denver:20260214T080000
DTEND;TZID=America/Denver:20260215T170000
DTSTAMP:20260425T104856
CREATED:20260114T223035Z
LAST-MODIFIED:20260114T223035Z
UID:10000117-1771056000-1771174800@christianharvestintl.org
SUMMARY:Becca with Destiny Ministries
DESCRIPTION:
URL:https://christianharvestintl.org/event/becca-with-destiny-ministries/
END:VEVENT
BEGIN:VEVENT
DTSTART;TZID=America/Denver:20260423T080000
DTEND;TZID=America/Denver:20260425T170000
DTSTAMP:20260425T104856
CREATED:20260114T223813Z
LAST-MODIFIED:20260114T223813Z
UID:10000118-1776931200-1777136400@christianharvestintl.org
SUMMARY:Arise
DESCRIPTION:
URL:https://christianharvestintl.org/event/arise/
LOCATION:City Gate Indiana\, 320 Eagle Crest Dr\, Evansville\, IN\, 47715\, United States
END:VEVENT
BEGIN:VEVENT
DTSTART;VALUE=DATE:20260616
DTEND;VALUE=DATE:20260619
DTSTAMP:20260425T104856
CREATED:20260425T162838Z
LAST-MODIFIED:20260425T162844Z
UID:10000121-1781568000-1781827199@christianharvestintl.org
SUMMARY:Watchmen & Seers: A Prophetic Awakening Online Event
DESCRIPTION:[vc_row][vc_column][vc_column_text]Dates:\nJune 16 | 6-7:30 PM MT\nJune 17 | 6-7:30 PM MT\nJune 18 | 6-7:30 PM MT \nWhere: Zoom\nAll participants will receive an email with the Zoom information as we get closer to the event \nPrice: $99 \nDescription: There is a growing intensity in the spirit across regions\, families\, and nations. \nMany are sensing it—but don’t yet have the clarity to discern what is happening or how to respond. \nIn this three-night online experience\, Becca Greenwood will share powerful testimonies and insight from decades of ministry in spiritual warfare\, prophetic intercession\, and regional breakthrough. \nThis is more than teaching. \nThis is an awakening. \nWhat You Will Experience\nOver three powerful nights\, you will be invited into: \n\nReal-life testimonies of transformation through strategic spiritual warfare\nInsight into how spiritual battles impact regions\, families\, and individuals\nTeaching on developing discernment as a watchman\nMoments of prayer and impartation that will stir and awaken your spirit\n\nThis is not a deep-dive school—it is an invitation to encounter and step into more. \nGod Is Raising Up Watchmen \nAcross the earth\, there is a call going forth for men and women who will stand with clarity in the midst of confusion. \nWatchmen who: \n\nCan discern what is happening spiritually\nUnderstand the times and seasons\nPray with precision and authority\nStand in their regions with confidence\n\nIf you have felt a stirring to go deeper… \nIf you’ve sensed there is more\, but haven’t known where to begin… \nThis gathering is for you. \nYou Will Leave With: \n\nGreater clarity in spiritual warfare\nIncreased discernment in your personal life and region\nConfidence in how to pray with greater precision\nA deeper hunger for God’s presence and purpose\n\n[/vc_column_text][/vc_column][/vc_row]
URL:https://christianharvestintl.org/event/watchmen-seers-a-prophetic-awakening-online-event/
ATTACH;FMTTYPE=image/jpeg:https://christianharvestintl.org/wp-content/uploads/2026/04/image-event.jpg
END:VEVENT
END:VCALENDAR