BEGIN:VCALENDAR
VERSION:2.0
PRODID:-//Christian Harvest International - ECPv6.15.14//NONSGML v1.0//EN
CALSCALE:GREGORIAN
METHOD:PUBLISH
X-WR-CALNAME:Christian Harvest International
X-ORIGINAL-URL:https://christianharvestintl.org
X-WR-CALDESC:Events for Christian Harvest International
REFRESH-INTERVAL;VALUE=DURATION:PT1H
X-Robots-Tag:noindex
X-PUBLISHED-TTL:PT1H
BEGIN:VTIMEZONE
TZID:America/Denver
BEGIN:DAYLIGHT
TZOFFSETFROM:-0700
TZOFFSETTO:-0600
TZNAME:MDT
DTSTART:20240310T090000
END:DAYLIGHT
BEGIN:STANDARD
TZOFFSETFROM:-0600
TZOFFSETTO:-0700
TZNAME:MST
DTSTART:20241103T080000
END:STANDARD
BEGIN:DAYLIGHT
TZOFFSETFROM:-0700
TZOFFSETTO:-0600
TZNAME:MDT
DTSTART:20250309T090000
END:DAYLIGHT
BEGIN:STANDARD
TZOFFSETFROM:-0600
TZOFFSETTO:-0700
TZNAME:MST
DTSTART:20251102T080000
END:STANDARD
BEGIN:DAYLIGHT
TZOFFSETFROM:-0700
TZOFFSETTO:-0600
TZNAME:MDT
DTSTART:20260308T090000
END:DAYLIGHT
BEGIN:STANDARD
TZOFFSETFROM:-0600
TZOFFSETTO:-0700
TZNAME:MST
DTSTART:20261101T080000
END:STANDARD
END:VTIMEZONE
BEGIN:VEVENT
DTSTART;TZID=America/Denver:20250328T080000
DTEND;TZID=America/Denver:20250330T170000
DTSTAMP:20260424T111527
CREATED:20250211T234639Z
LAST-MODIFIED:20250211T234639Z
UID:10000108-1743148800-1743354000@christianharvestintl.org
SUMMARY:Rev Weekend
DESCRIPTION:RevWknd w/Becca Greenwood at Revive Church \nGet ready to experience an incredible Revival Weekend at Revive Church! From Friday\, March 28th to Sunday\, March 30th\, we’ll have powerful worship\, inspiring messages\, and life-changing encounters with God. This is an event you don’t want to miss! Invite your friends and family and come expectant for God to move in a mighty way! \n2024 Nederland Avenue\, Nederland\, TX\, United States\, Texas 77627 \n 
URL:https://christianharvestintl.org/event/rev-weekend/
LOCATION:IN
ATTACH;FMTTYPE=image/jpeg:https://christianharvestintl.org/wp-content/uploads/2025/02/rev-wknd-image.jpg
END:VEVENT
END:VCALENDAR