BEGIN:VCALENDAR
VERSION:2.0
PRODID:-//Christian Harvest International - ECPv6.15.14//NONSGML v1.0//EN
CALSCALE:GREGORIAN
METHOD:PUBLISH
X-WR-CALNAME:Christian Harvest International
X-ORIGINAL-URL:https://christianharvestintl.org
X-WR-CALDESC:Events for Christian Harvest International
REFRESH-INTERVAL;VALUE=DURATION:PT1H
X-Robots-Tag:noindex
X-PUBLISHED-TTL:PT1H
BEGIN:VTIMEZONE
TZID:America/Denver
BEGIN:DAYLIGHT
TZOFFSETFROM:-0700
TZOFFSETTO:-0600
TZNAME:MDT
DTSTART:20240310T090000
END:DAYLIGHT
BEGIN:STANDARD
TZOFFSETFROM:-0600
TZOFFSETTO:-0700
TZNAME:MST
DTSTART:20241103T080000
END:STANDARD
BEGIN:DAYLIGHT
TZOFFSETFROM:-0700
TZOFFSETTO:-0600
TZNAME:MDT
DTSTART:20250309T090000
END:DAYLIGHT
BEGIN:STANDARD
TZOFFSETFROM:-0600
TZOFFSETTO:-0700
TZNAME:MST
DTSTART:20251102T080000
END:STANDARD
BEGIN:DAYLIGHT
TZOFFSETFROM:-0700
TZOFFSETTO:-0600
TZNAME:MDT
DTSTART:20260308T090000
END:DAYLIGHT
BEGIN:STANDARD
TZOFFSETFROM:-0600
TZOFFSETTO:-0700
TZNAME:MST
DTSTART:20261101T080000
END:STANDARD
END:VTIMEZONE
BEGIN:VEVENT
DTSTART;TZID=America/Denver:20250313T080000
DTEND;TZID=America/Denver:20250315T170000
DTSTAMP:20260424T112231
CREATED:20250211T233621Z
LAST-MODIFIED:20250213T163723Z
UID:10000107-1741852800-1742058000@christianharvestintl.org
SUMMARY:Ekballo Conference
DESCRIPTION:The Well Global is pleased to announce the Ekballo Conference for Spring 2025! This convergence of global missions-both internationally\, nationally\, and within the seven mountains along with the call to intercession rising up within the Body of Christ is a timely meeting where many will be launched into their destiny! \n  \n\nEkballo 2025\nThursday\, March 13\, 2025  7:00 PM\nSaturday\, March 15\, 2025  11:00 PM \nMaryville\, TN\, 37804 United States (map)
URL:https://christianharvestintl.org/event/ekballo-conference/
LOCATION:IN
ATTACH;FMTTYPE=image/jpeg:https://christianharvestintl.org/wp-content/uploads/2025/02/the-well-conference-image.jpg
END:VEVENT
END:VCALENDAR